Workbook

Sheet Bảng tính thuế TNCN
A1: Công ty TNHH Thương mại dịch vụ Thiên Ưng
A2: Số 19 Đường Nguyễn Trãi, P. Khương Trung, Q. Thanh Xuân, TP. Hà Nội
D3: BẢNG TÍNH THUẾ TNCN CHO NGƯỜI LAO ĐỘNG
D4: Tháng 1 năm 2026 | AE4: Đơn vị tính: Việt Nam Đồng
A6: STT | C6: Họ Và Tên | D6: Chức vụ | E6: Loại HĐ | F6: MST | G6: Tiền Lương Thỏa thuận trên Hợp Đồng Lao Đông | K6: Công | O6: Tiền Lương thực nhận theo ngày công đi làm thực tế trong tháng 01/2026 | T6: Tiền Thưởng (Tết) | U6: Tổng Thu Nhập thực tế | V6: Xác Định Các khoản Miễn Thuế | Y6: Tổng Thu Nhập Miễn Thuế | Z6: Thu nhập chịu thuế | AA6: Các khoản Giảm trừ | AF6: Thu nhập Tính thuế | AG6: Thuế TNCN phải khấu trừ T03/2017 | AH6: Thuế TNCN phải khấu trừ T12/2025
K7: Ngày Công Thực Tế | L7: Tăng ca 150% | M7: Tăng ca đêm | N7: Tăng ca cuối tuần | AA7: Bản thân | AB7: Người PT | AD7: BH bắt buộc | AE7: Tổng cộng
G8: Lương Chính | H8: Phụ Cấp Trách Nhiệm | I8: Tiền Ăn | J8: Điện Thoại | O8: Lương Chính | P8: Phụ Cấp Trách Nhiệm | Q8: Tiền Ăn | R8: Điện Thoại | S8: Thêm giờ | V8: Tiền Ăn | W8: Điện Thoại | X8: Thêm giờ | AB8: Số người | AC8: Số giảm
A9: I | B9: CÁ NHÂN CƯ TRÚ
A10: A | B10: Hợp đồng lao động từ 3 tháng trở lên
A11: 1 | C11: Phạm Văn A | D11: GD | F11: 83960000 | G11: 30000000 | H11: 3000000 | I11: 1200000 | J11: 800000 | K11: 20 | L11: 8 | M11: 3 | O11: =$G11*$K11/26 -> 23076923 | P11: =$H11*$K11/26 -> 2307692.3 | Q11: =$I11*$K11/26 -> 923076.92 | R11: =$J11*$K11/26 -> 615384.62 | S11: =G11/25/8*(L11*1.5+M11*2+N11*2) -> 2700000 | T11: 10000000 | U11: =SUM(O11:T11) -> 39623077 | V11: =IF(Q11>730000,730000,Q11) -> 730000 | W11: =R11 -> 615384.62 | X11: =S11 -> 2700000 | Y11: =V11+W11+X11 -> 4045384.6 | Z11: =U11-Y11 -> 35577692 | AA11: ='Tham Chieu'!$I$4 -> 15500000 | AB11: 0 | AC11: =AB11*'Tham Chieu'!$J$4 -> 0 | AD11: =(G11+H11)*10.5% -> 3465000 | AE11: =AA11+AC11+AD11 -> 18965000 | AF11: =Z11-AE11 -> 16612692 | AG11: =IF(AND(AF11<=5000000,AF11>0), AF11*5%, IF(AND(AF11>5000000, AF11<=10000000), 250000+(AF11-5000000)*10%, IF(AND(AF11>10000000, AF11<=18000000), 750000+(AF11-10000000)*15%, IF(AND(AF11>18000000, AF11<=32000000), 1950000+(AF11-18000000)*20%, IF(AND(AF11>32000000, AF11<=52000000), 4750000+(AF11-32000000)*25%, IF(AND(AF11>52000000, AF11<=80000000), 9750000+(AF11-52000000)*30%, IF(AF11>80000000, 18150000+(AF11-80000000)*35%, 0))))))) -> 1741903.8 | AH11: =IF(AND(AF11<='Tham Chieu'!$C$4,AF11>0),AF11*'Tham Chieu'!$D$4,IF(AND(AF11>'Tham Chieu'!$C$4,AF11<='Tham Chieu'!$C$5),'Tham Chieu'!$E$5+(AF11-'Tham Chieu'!$C$4)*'Tham Chieu'!$D$5,IF(AND(AF11>'Tham Chieu'!$C$5,AF11<='Tham Chieu'!$C$6),'Tham Chieu'!$E$6+(AF11-'Tham Chieu'!$C$5)*'Tham Chieu'!$D$6,IF(AND(AF11>'Tham Chieu'!$C$6,AF11<='Tham Chieu'!$C$7),'Tham Chieu'!$E$7+(AF11-'Tham Chieu'!$C$6)*'Tham Chieu'!$D$7,IF(AND(AF11>'Tham Chieu'!$C$7,AF11<='Tham Chieu'!$C$8),'Tham Chieu'!$E$8+(AF11-'Tham Chieu'!$C$7)*'Tham Chieu'!$D$8,0))))) -> 1161269.2
A12: 2 | C12: Nguyễn Văn B | D12: PGD | E12: VTH | F12: 83961000 | G12: 16000000 | H12: 1000000 | I12: 1000000 | J12: 600000 | K12: 21 | N12: 8 | O12: =$G12*$K12/26 -> 12923077 | P12: =$H12*$K12/26 -> 807692.31 | Q12: =$I12*$K12/26 -> 807692.31 | R12: =$J12*$K12/26 -> 484615.38 | S12: =G12/25/8*(L12*1.5+M12*2+N12*2) -> 1280000 | T12: 8000000 | U12: =SUM(O12:T12) -> 24303077 | V12: =IF(Q12>730000,730000,Q12) -> 730000 | W12: =R12 -> 484615.38 | X12: =S12 -> 1280000 | Y12: =V12+W12+X12 -> 2494615.4 | Z12: =U12-Y12 -> 21808462 | AA12: ='Tham Chieu'!$I$4 -> 15500000 | AB12: 2 | AC12: =AB12*'Tham Chieu'!$J$4 -> 12400000 | AD12: =(G12+H12)*10.5% -> 1785000 | AE12: =AA12+AC12+AD12 -> 29685000 | AF12: =Z12-AE12 -> -7876538.5 | AG12: =IF(AND(AF12<=5000000,AF12>0), AF12*5%, IF(AND(AF12>5000000, AF12<=10000000), 250000+(AF12-5000000)*10%, IF(AND(AF12>10000000, AF12<=18000000), 750000+(AF12-10000000)*15%, IF(AND(AF12>18000000, AF12<=32000000), 1950000+(AF12-18000000)*20%, IF(AND(AF12>32000000, AF12<=52000000), 4750000+(AF12-32000000)*25%, IF(AND(AF12>52000000, AF12<=80000000), 9750000+(AF12-52000000)*30%, IF(AF12>80000000, 18150000+(AF12-80000000)*35%, 0))))))) -> 0 | AH12: =IF(AND(AF12<='Tham Chieu'!$C$4,AF12>0),AF12*'Tham Chieu'!$D$4,IF(AND(AF12>'Tham Chieu'!$C$4,AF12<='Tham Chieu'!$C$5),'Tham Chieu'!$E$5+(AF12-'Tham Chieu'!$C$4)*'Tham Chieu'!$D$5,IF(AND(AF12>'Tham Chieu'!$C$5,AF12<='Tham Chieu'!$C$6),'Tham Chieu'!$E$6+(AF12-'Tham Chieu'!$C$5)*'Tham Chieu'!$D$6,IF(AND(AF12>'Tham Chieu'!$C$6,AF12<='Tham Chieu'!$C$7),'Tham Chieu'!$E$7+(AF12-'Tham Chieu'!$C$6)*'Tham Chieu'!$D$7,IF(AND(AF12>'Tham Chieu'!$C$7,AF12<='Tham Chieu'!$C$8),'Tham Chieu'!$E$8+(AF12-'Tham Chieu'!$C$7)*'Tham Chieu'!$D$8,0))))) -> 0
A13: 3 | C13: Đào Thị C | D13: KTT | E13: 36T | F13: 83961200 | G13: 13000000 | H13: 0 | I13: 730000 | J13: 500000 | K13: 21 | O13: =$G13*$K13/26 -> 10500000 | P13: =$H13*$K13/26 -> 0 | Q13: =$I13*$K13/26 -> 589615.38 | R13: =$J13*$K13/26 -> 403846.15 | S13: =G13/25/8*(L13*1.5+M13*2+N13*2) -> 0 | T13: 7000000 | U13: =SUM(O13:T13) -> 18493462 | V13: =IF(Q13>730000,730000,Q13) -> 589615.38 | W13: =R13 -> 403846.15 | X13: =S13 -> 0 | Y13: =V13+W13+X13 -> 993461.54 | Z13: =U13-Y13 -> 17500000 | AA13: ='Tham Chieu'!$I$4 -> 15500000 | AB13: 1 | AC13: =AB13*'Tham Chieu'!$J$4 -> 6200000 | AD13: =(G13+H13)*10.5% -> 1365000 | AE13: =AA13+AC13+AD13 -> 23065000 | AF13: =Z13-AE13 -> -5565000 | AG13: =IF(AND(AF13<=5000000,AF13>0), AF13*5%, IF(AND(AF13>5000000, AF13<=10000000), 250000+(AF13-5000000)*10%, IF(AND(AF13>10000000, AF13<=18000000), 750000+(AF13-10000000)*15%, IF(AND(AF13>18000000, AF13<=32000000), 1950000+(AF13-18000000)*20%, IF(AND(AF13>32000000, AF13<=52000000), 4750000+(AF13-32000000)*25%, IF(AND(AF13>52000000, AF13<=80000000), 9750000+(AF13-52000000)*30%, IF(AF13>80000000, 18150000+(AF13-80000000)*35%, 0))))))) -> 0 | AH13: =IF(AND(AF13<='Tham Chieu'!$C$4,AF13>0),AF13*'Tham Chieu'!$D$4,IF(AND(AF13>'Tham Chieu'!$C$4,AF13<='Tham Chieu'!$C$5),'Tham Chieu'!$E$5+(AF13-'Tham Chieu'!$C$4)*'Tham Chieu'!$D$5,IF(AND(AF13>'Tham Chieu'!$C$5,AF13<='Tham Chieu'!$C$6),'Tham Chieu'!$E$6+(AF13-'Tham Chieu'!$C$5)*'Tham Chieu'!$D$6,IF(AND(AF13>'Tham Chieu'!$C$6,AF13<='Tham Chieu'!$C$7),'Tham Chieu'!$E$7+(AF13-'Tham Chieu'!$C$6)*'Tham Chieu'!$D$7,IF(AND(AF13>'Tham Chieu'!$C$7,AF13<='Tham Chieu'!$C$8),'Tham Chieu'!$E$8+(AF13-'Tham Chieu'!$C$7)*'Tham Chieu'!$D$8,0))))) -> 0
A14: 4 | C14: Hoàng Văn D | D14: NVVP | E14: 6T | F14: 83961203 | G14: 9000000 | H14: 0 | I14: 650000 | J14: 300000 | K14: 20 | O14: =$G14*$K14/26 -> 6923076.9 | P14: =$H14*$K14/26 -> 0 | Q14: =$I14*$K14/26 -> 500000 | R14: =$J14*$K14/26 -> 230769.23 | S14: =G14/25/8*(L14*1.5+M14*2+N14*2) -> 0 | T14: 5000000 | U14: =SUM(O14:T14) -> 12653846 | V14: =IF(Q14>730000,730000,Q14) -> 500000 | W14: =R14 -> 230769.23 | X14: =S14 -> 0 | Y14: =V14+W14+X14 -> 730769.23 | Z14: =U14-Y14 -> 11923077 | AE14: =AA14+AC14+AD14 -> 0 | AF14: =Z14-AE14 -> 11923077 | AG14: =IF(AND(AF14<=5000000,AF14>0), AF14*5%, IF(AND(AF14>5000000, AF14<=10000000), 250000+(AF14-5000000)*10%, IF(AND(AF14>10000000, AF14<=18000000), 750000+(AF14-10000000)*15%, IF(AND(AF14>18000000, AF14<=32000000), 1950000+(AF14-18000000)*20%, IF(AND(AF14>32000000, AF14<=52000000), 4750000+(AF14-32000000)*25%, IF(AND(AF14>52000000, AF14<=80000000), 9750000+(AF14-52000000)*30%, IF(AF14>80000000, 18150000+(AF14-80000000)*35%, 0))))))) -> 1038461.5 | AH14: =IF(AND(AF14<='Tham Chieu'!$C$4,AF14>0),AF14*'Tham Chieu'!$D$4,IF(AND(AF14>'Tham Chieu'!$C$4,AF14<='Tham Chieu'!$C$5),'Tham Chieu'!$E$5+(AF14-'Tham Chieu'!$C$4)*'Tham Chieu'!$D$5,IF(AND(AF14>'Tham Chieu'!$C$5,AF14<='Tham Chieu'!$C$6),'Tham Chieu'!$E$6+(AF14-'Tham Chieu'!$C$5)*'Tham Chieu'!$D$6,IF(AND(AF14>'Tham Chieu'!$C$6,AF14<='Tham Chieu'!$C$7),'Tham Chieu'!$E$7+(AF14-'Tham Chieu'!$C$6)*'Tham Chieu'!$D$7,IF(AND(AF14>'Tham Chieu'!$C$7,AF14<='Tham Chieu'!$C$8),'Tham Chieu'!$E$8+(AF14-'Tham Chieu'!$C$7)*'Tham Chieu'!$D$8,0))))) -> 692307.69
A15: B | B15: Hợp đồng lao động dưới 3 tháng | AA15: Cam kết TN | AD15: ĐỦ ĐK | AE15: Làm 08/CK-TNCN
A16: 5 | C16: Nguyễn Thị T | D16: NVBH | E16: TV | F16: 83961204 | G16: =85%*6000000 -> 5100000 | H16: 0 | I16: 600000 | J16: 200000 | K16: 21 | O16: =$G16*$K16/26 -> 4119230.8 | P16: =$H16*$K16/26 -> 0 | Q16: =$I16*$K16/26 -> 484615.38 | R16: =$J16*$K16/26 -> 161538.46 | U16: =O16+P16+Q16+R16 -> 4765384.6 | V16: =IF(Q16>730000,730000,Q16) -> 484615.38 | W16: =R16 -> 161538.46 | Z16: =U16-Y16 -> 4765384.6 | AD16: đủ | AE16: có | AG16: =AF16*10% -> 0 | AH16: 0
A17: 6 | C17: Đoàn Thị H | D17: NVVP | E17: TV | F17: 83961205 | G17: =85%*5000000 -> 4250000 | H17: 0 | I17: 500000 | J17: 0 | K17: 10 | O17: =$G17*$K17/26 -> 1634615.4 | P17: =$H17*$K17/26 -> 0 | Q17: =$I17*$K17/26 -> 192307.69 | R17: =$J17*$K17/26 -> 0 | U17: =O17+P17+Q17+R17 -> 1826923.1 | V17: =IF(Q17>730000,730000,Q17) -> 192307.69 | W17: =R17 -> 0 | Z17: =U17-Y17 -> 1826923.1 | AD17: Không cần (dưới 2 tr) | AG17: =AF17*10% -> 0 | AH17: 0
A18: 7 | C18: Nguyễn Thị Thanh T | D18: NVVP | E18: KV | F18: Chưa có | G18: 3000000 | H18: 0 | I18: 0 | J18: 0 | O18: =G18 -> 3000000 | P18: =$H18*$K18/26 -> 0 | Q18: =$H18*$K18/26 -> 0 | R18: =$H18*$K18/26 -> 0 | U18: =O18+P18+Q18+R18 -> 3000000 | V18: =IF(Q18>730000,730000,Q18) -> 0 | W18: =R18 -> 0 | Z18: =U18-Y18 -> 3000000 | AD18: không đủ | AE18: ko có MST | AF18: =Z18 -> 3000000 | AG18: =AF18*10% -> 300000 | AH18: =AF18*10% -> 300000
A19: 8 | C19: Nguyễn Văn T | D19: NVKD | E19: KV | F19: 87831886 | G19: 3500000 | H19: 0 | I19: 0 | J19: 0 | O19: =G19 -> 3500000 | P19: =$H19*$K19/26 -> 0 | Q19: =$H19*$K19/26 -> 0 | R19: =$H19*$K19/26 -> 0 | U19: =O19+P19+Q19+R19 -> 3500000 | V19: =IF(Q19>730000,730000,Q19) -> 0 | W19: =R19 -> 0 | Z19: =U19-Y19 -> 3500000 | AD19: không đủ | AE19: ký HĐLĐ dài hạn nơi khác | AF19: =Z19 -> 3500000 | AG19: =AF19*10% -> 350000 | AH19: =AF19*10% -> 350000
A20: II | B20: CÁ NHÂN KHÔNG CƯ TRÚ
A21: 9 | C21: Chuyên gia A | E21: VV | G21: 10000000 | H21: 0 | I21: 0 | J21: 0 | O21: =G21 -> 10000000 | P21: 0 | Q21: 0 | R21: 0 | U21: =O21+P21+Q21+R21 -> 10000000 | Z21: =U21-Y21 -> 10000000 | AF21: =Z21 -> 10000000 | AG21: =AF21*20% -> 2000000 | AH21: =AF21*20% -> 2000000
AD23: TỔNG CỘNG (I + II) | AH23: =SUM(AH11:AH21) -> 4503576.9
AC25: ParadiseHR HCM, ngày 10 tháng 02 năm 2026
C26: Người lập biểu | AC26: Giám đốc Công ty
C27: ( Ký, ghi rõ họ tên ) | AC27: ( Ký, đóng dấu, ghi rõ họ tên )

Sheet Tham Chieu
A3: TaxName | B3: IncomeFrom | C3: IncomeTo | D3: TaxPercent | E3: ProgressiveAmount | F3: Description | G3: TaxPercent100 | I3: TAX_PERSONAL_DEDUCT | J3: TAX_RELATE_DEDUCT
A4: 20260701VN | B4: 1 | C4: 10000000 | D4: 0.05 | E4: 0 | G4: 5 | I4: 15500000 | J4: 6200000
A5: 20260702VN | B5: 10000001 | C5: 30000000 | D5: 0.1 | E5: 500000 | G5: 10
A6: 20260703VN | B6: 30000001 | C6: 60000000 | D6: 0.2 | E6: 2500000 | G6: 20
A7: 20260704VN | B7: 60000001 | C7: 100000000 | D7: 0.3 | E7: 8500000 | G7: 30
A8: 20260705VN | B8: 100000001 | C8: 999000000 | D8: 0.35 | E8: 20500000 | G8: 35
C13: 5000000 | D13: =IF(AND(C13<='Tham Chieu'!$C$4,C13>0),C13*'Tham Chieu'!$D$4,IF(AND(C13>'Tham Chieu'!$C$4,C13<='Tham Chieu'!$C$5),$E$5+(C13-'Tham Chieu'!$C$4)*'Tham Chieu'!$D$5,IF(AND(C13>'Tham Chieu'!$C$5,C13<='Tham Chieu'!$C$6),$E$6+(C13-$C$5)*'Tham Chieu'!$D$6,IF(AND(C13>$C$6,C13<=$C$7),$E$7+(C13-$C$6)*$D$7,IF(AND(C13>$C$7,C13<=$C$8),$E$8+(C13-$C$7)*$D$8,0))))) -> 250000
C14: 450000 | D14: =IF(AND(C14<='Tham Chieu'!$C$4,C14>0),C14*'Tham Chieu'!$D$4,IF(AND(C14>'Tham Chieu'!$C$4,C14<='Tham Chieu'!$C$5),$E$5+(C14-'Tham Chieu'!$C$4)*'Tham Chieu'!$D$5,IF(AND(C14>'Tham Chieu'!$C$5,C14<='Tham Chieu'!$C$6),$E$6+(C14-$C$5)*'Tham Chieu'!$D$6,IF(AND(C14>$C$6,C14<=$C$7),$E$7+(C14-$C$6)*$D$7,IF(AND(C14>$C$7,C14<=$C$8),$E$8+(C14-$C$7)*$D$8,0))))) -> 22500
C15: 30150000 | D15: =IF(AND(C15<='Tham Chieu'!$C$4,C15>0),C15*'Tham Chieu'!$D$4,IF(AND(C15>'Tham Chieu'!$C$4,C15<='Tham Chieu'!$C$5),$E$5+(C15-'Tham Chieu'!$C$4)*'Tham Chieu'!$D$5,IF(AND(C15>'Tham Chieu'!$C$5,C15<='Tham Chieu'!$C$6),$E$6+(C15-$C$5)*'Tham Chieu'!$D$6,IF(AND(C15>$C$6,C15<=$C$7),$E$7+(C15-$C$6)*$D$7,IF(AND(C15>$C$7,C15<=$C$8),$E$8+(C15-$C$7)*$D$8,0))))) -> 2530000
C16: 55200000 | D16: =IF(AND(C16<='Tham Chieu'!$C$4,C16>0),C16*'Tham Chieu'!$D$4,IF(AND(C16>'Tham Chieu'!$C$4,C16<='Tham Chieu'!$C$5),$E$5+(C16-'Tham Chieu'!$C$4)*'Tham Chieu'!$D$5,IF(AND(C16>'Tham Chieu'!$C$5,C16<='Tham Chieu'!$C$6),$E$6+(C16-$C$5)*'Tham Chieu'!$D$6,IF(AND(C16>$C$6,C16<=$C$7),$E$7+(C16-$C$6)*$D$7,IF(AND(C16>$C$7,C16<=$C$8),$E$8+(C16-$C$7)*$D$8,0))))) -> 7540000
D17: =IF(AND(C17<='Tham Chieu'!$C$4,C17>0),C17*'Tham Chieu'!$D$4,IF(AND(C17>'Tham Chieu'!$C$4,C17<='Tham Chieu'!$C$5),$E$5+(C17-'Tham Chieu'!$C$4)*'Tham Chieu'!$D$5,IF(AND(C17>'Tham Chieu'!$C$5,C17<='Tham Chieu'!$C$6),$E$6+(C17-$C$5)*'Tham Chieu'!$D$6,IF(AND(C17>$C$6,C17<=$C$7),$E$7+(C17-$C$6)*$D$7,IF(AND(C17>$C$7,C17<=$C$8),$E$8+(C17-$C$7)*$D$8,0))))) -> 0
D18: =IF(AND(C18<='Tham Chieu'!$C$4,C18>0),C18*'Tham Chieu'!$D$4,IF(AND(C18>'Tham Chieu'!$C$4,C18<='Tham Chieu'!$C$5),$E$5+(C18-'Tham Chieu'!$C$4)*'Tham Chieu'!$D$5,IF(AND(C18>'Tham Chieu'!$C$5,C18<='Tham Chieu'!$C$6),$E$6+(C18-$C$5)*'Tham Chieu'!$D$6,IF(AND(C18>$C$6,C18<=$C$7),$E$7+(C18-$C$6)*$D$7,IF(AND(C18>$C$7,C18<=$C$8),$E$8+(C18-$C$7)*$D$8,0))))) -> 0
D19: =IF(AND(C19<='Tham Chieu'!$C$4,C19>0),C19*'Tham Chieu'!$D$4,IF(AND(C19>'Tham Chieu'!$C$4,C19<='Tham Chieu'!$C$5),$E$5+(C19-'Tham Chieu'!$C$4)*'Tham Chieu'!$D$5,IF(AND(C19>'Tham Chieu'!$C$5,C19<='Tham Chieu'!$C$6),$E$6+(C19-$C$5)*'Tham Chieu'!$D$6,IF(AND(C19>$C$6,C19<=$C$7),$E$7+(C19-$C$6)*$D$7,IF(AND(C19>$C$7,C19<=$C$8),$E$8+(C19-$C$7)*$D$8,0))))) -> 0
D20: =IF(AND(C20<='Tham Chieu'!$C$4,C20>0),C20*'Tham Chieu'!$D$4,IF(AND(C20>'Tham Chieu'!$C$4,C20<='Tham Chieu'!$C$5),$E$5+(C20-'Tham Chieu'!$C$4)*'Tham Chieu'!$D$5,IF(AND(C20>'Tham Chieu'!$C$5,C20<='Tham Chieu'!$C$6),$E$6+(C20-$C$5)*'Tham Chieu'!$D$6,IF(AND(C20>$C$6,C20<=$C$7),$E$7+(C20-$C$6)*$D$7,IF(AND(C20>$C$7,C20<=$C$8),$E$8+(C20-$C$7)*$D$8,0))))) -> 0
D21: =IF(AND(C21<='Tham Chieu'!$C$4,C21>0),C21*'Tham Chieu'!$D$4,IF(AND(C21>'Tham Chieu'!$C$4,C21<='Tham Chieu'!$C$5),$E$5+(C21-'Tham Chieu'!$C$4)*'Tham Chieu'!$D$5,IF(AND(C21>'Tham Chieu'!$C$5,C21<='Tham Chieu'!$C$6),$E$6+(C21-$C$5)*'Tham Chieu'!$D$6,IF(AND(C21>$C$6,C21<=$C$7),$E$7+(C21-$C$6)*$D$7,IF(AND(C21>$C$7,C21<=$C$8),$E$8+(C21-$C$7)*$D$8,0))))) -> 0
D22: =IF(AND(C22<='Tham Chieu'!$C$4,C22>0),C22*'Tham Chieu'!$D$4,IF(AND(C22>'Tham Chieu'!$C$4,C22<='Tham Chieu'!$C$5),$E$5+(C22-'Tham Chieu'!$C$4)*'Tham Chieu'!$D$5,IF(AND(C22>'Tham Chieu'!$C$5,C22<='Tham Chieu'!$C$6),$E$6+(C22-$C$5)*'Tham Chieu'!$D$6,IF(AND(C22>$C$6,C22<=$C$7),$E$7+(C22-$C$6)*$D$7,IF(AND(C22>$C$7,C22<=$C$8),$E$8+(C22-$C$7)*$D$8,0))))) -> 0
D23: =IF(AND(C23<='Tham Chieu'!$C$4,C23>0),C23*'Tham Chieu'!$D$4,IF(AND(C23>'Tham Chieu'!$C$4,C23<='Tham Chieu'!$C$5),$E$5+(C23-'Tham Chieu'!$C$4)*'Tham Chieu'!$D$5,IF(AND(C23>'Tham Chieu'!$C$5,C23<='Tham Chieu'!$C$6),$E$6+(C23-$C$5)*'Tham Chieu'!$D$6,IF(AND(C23>$C$6,C23<=$C$7),$E$7+(C23-$C$6)*$D$7,IF(AND(C23>$C$7,C23<=$C$8),$E$8+(C23-$C$7)*$D$8,0))))) -> 0
D24: =IF(AND(C24<='Tham Chieu'!$C$4,C24>0),C24*'Tham Chieu'!$D$4,IF(AND(C24>'Tham Chieu'!$C$4,C24<='Tham Chieu'!$C$5),$E$5+(C24-'Tham Chieu'!$C$4)*'Tham Chieu'!$D$5,IF(AND(C24>'Tham Chieu'!$C$5,C24<='Tham Chieu'!$C$6),$E$6+(C24-$C$5)*'Tham Chieu'!$D$6,IF(AND(C24>$C$6,C24<=$C$7),$E$7+(C24-$C$6)*$D$7,IF(AND(C24>$C$7,C24<=$C$8),$E$8+(C24-$C$7)*$D$8,0))))) -> 0
D25: =IF(AND(C25<='Tham Chieu'!$C$4,C25>0),C25*'Tham Chieu'!$D$4,IF(AND(C25>'Tham Chieu'!$C$4,C25<='Tham Chieu'!$C$5),$E$5+(C25-'Tham Chieu'!$C$4)*'Tham Chieu'!$D$5,IF(AND(C25>'Tham Chieu'!$C$5,C25<='Tham Chieu'!$C$6),$E$6+(C25-$C$5)*'Tham Chieu'!$D$6,IF(AND(C25>$C$6,C25<=$C$7),$E$7+(C25-$C$6)*$D$7,IF(AND(C25>$C$7,C25<=$C$8),$E$8+(C25-$C$7)*$D$8,0))))) -> 0
D26: =IF(AND(C26<='Tham Chieu'!$C$4,C26>0),C26*'Tham Chieu'!$D$4,IF(AND(C26>'Tham Chieu'!$C$4,C26<='Tham Chieu'!$C$5),$E$5+(C26-'Tham Chieu'!$C$4)*'Tham Chieu'!$D$5,IF(AND(C26>'Tham Chieu'!$C$5,C26<='Tham Chieu'!$C$6),$E$6+(C26-$C$5)*'Tham Chieu'!$D$6,IF(AND(C26>$C$6,C26<=$C$7),$E$7+(C26-$C$6)*$D$7,IF(AND(C26>$C$7,C26<=$C$8),$E$8+(C26-$C$7)*$D$8,0))))) -> 0
